BEGIN:VCALENDAR
VERSION:2.0
PRODID:-//Sabre//Sabre VObject 4.5.8//EN
CALSCALE:GREGORIAN
BEGIN:VTIMEZONE
TZID:Europe/Berlin
X-MICROSOFT-CDO-TZID:4
BEGIN:STANDARD
DTSTART:20251026T010000
TZOFFSETFROM:+0200
TZOFFSETTO:+0100
TZNAME:CET
END:STANDARD
BEGIN:STANDARD
DTSTART:20261025T010000
TZOFFSETFROM:+0200
TZOFFSETTO:+0100
TZNAME:CET
END:STANDARD
BEGIN:DAYLIGHT
DTSTART:20260329T010000
TZOFFSETFROM:+0100
TZOFFSETTO:+0200
TZNAME:CEST
END:DAYLIGHT
END:VTIMEZONE
BEGIN:VEVENT
UID:sabre-vobject-0e7ccfd3-614b-474c-a0e4-001c3629d56b
DTSTAMP:20260424T131825Z
SUMMARY:Stadtforum Berlin: Infrastrukturen zusammendenken. [Un]sichtbare [I
 nfra]strukturen Berlins zukunftsfähig weiterentwickeln
DTSTART;TZID=Europe/Berlin:20260609T180000
DTEND;TZID=Europe/Berlin:20260609T210000
LOCATION:silent green Kulturquartier\, Gerichtstraße 35\, 13347 Berlin\n
DESCRIPTION:Das Stadtforum Berlin widmet sich der integrierten Entwicklung 
 urbaner Infrastrukturen und rückt die Frage in den Fokus\, wie technische
 \, soziale und ökologische Systeme in einer wachsenden Stadt zusammengeda
 cht werden können. Im Mittelpunkt stehen Ansätze für eine gemeinwohlori
 entierte\, klimaresiliente Stadtentwicklung\, insbesondere in den Bereiche
 n Energie\, Kreislaufwirtschaft sowie grüne und blaue Infrastrukturen.\n 
 Den inhaltlichen Rahmen bilden Fachvorträge\, Dialogformate und thematisc
 he Diskussionsstationen\, die sich unter anderem mit Infrastrukturentwickl
 ung in neuen Quartieren\, innovativen Planungsprozessen im Bestand sowie s
 trategischer Flächennutzung befassen. Zu den prägenden Stimmen zählen u
 nter anderem Christian Gaebler\,&nbsp\;Senator für Stadtentwicklung\, Ba
 uen und Wohnen\, Thomas Dienberg\,&nbsp\;Bürgermeister und Beigeordneter
  für Stadtentwicklung und Bau\, Leipzig sowie Korinna Stephan\, Bezirkss
 tadträtin für Stadtentwicklung\, Bezirk Reinickendorf\,&nbsp\;die gemei
 nsam mit Vertretern aus Verwaltung\, Wissenschaft und Stadtgesellschaft Pe
 rspektiven für eine zukunftsfähige Infrastrukturentwicklung diskutieren.
 \n\n\nAnmeldung erforderlich
END:VEVENT
END:VCALENDAR
