BEGIN:VCALENDAR
VERSION:2.0
PRODID:-//Sabre//Sabre VObject 4.5.8//EN
CALSCALE:GREGORIAN
BEGIN:VTIMEZONE
TZID:Europe/Berlin
X-MICROSOFT-CDO-TZID:4
BEGIN:STANDARD
DTSTART:20251026T010000
TZOFFSETFROM:+0200
TZOFFSETTO:+0100
TZNAME:CET
END:STANDARD
BEGIN:STANDARD
DTSTART:20261025T010000
TZOFFSETFROM:+0200
TZOFFSETTO:+0100
TZNAME:CET
END:STANDARD
BEGIN:DAYLIGHT
DTSTART:20260329T010000
TZOFFSETFROM:+0100
TZOFFSETTO:+0200
TZNAME:CEST
END:DAYLIGHT
END:VTIMEZONE
BEGIN:VEVENT
UID:sabre-vobject-633acdc8-e0d1-4128-bab4-4105e5138a86
DTSTAMP:20260424T131348Z
SUMMARY:Tag der Baukultur Brandenburg
DTSTART;TZID=Europe/Berlin:20260530T000000
DTEND;TZID=Europe/Berlin:20260530T000000
LOCATION:Brandenburg Diverse Orte
DESCRIPTION:Brandenburg öffnet im Rahmen des Tags der Baukultur landesweit
  die Türen zu Projekten\, Initiativen und Bauvorhaben und macht die Vielf
 alt von Baukultur erlebbar. Im Mittelpunkt stehen Einblicke in aktuelle Pl
 anungsprozesse\, städtebauliche Entwicklungen und architektonische Konzep
 te sowie der Austausch zwischen Fachvertretern aus Architektur\, Ingenieur
 wesen und Stadtplanung und einer interessierten Öffentlichkeit. \nDas Pro
 gramm umfasst Führungen\, Workshops\, Ausstellungen und Diskussionsformat
 e zu Themen wie nachhaltiges Bauen\, ressourcenschonende Bauweisen\, Quart
 iersentwicklung und der Umgang mit historischer Bausubstanz. Zahlreiche Be
 iträge zeigen\, wie Baukultur als gemeinsamer Prozess zur Gestaltung von 
 Lebensräumen verstanden wird und welche Rolle sie für zukünftige Entwic
 klungen spielt.\n\n\nAnmeldung erforderlich
END:VEVENT
END:VCALENDAR
