BEGIN:VCALENDAR
VERSION:2.0
PRODID:-//Sabre//Sabre VObject 4.5.8//EN
CALSCALE:GREGORIAN
BEGIN:VTIMEZONE
TZID:Europe/Berlin
X-MICROSOFT-CDO-TZID:4
BEGIN:STANDARD
DTSTART:20251026T010000
TZOFFSETFROM:+0200
TZOFFSETTO:+0100
TZNAME:CET
END:STANDARD
BEGIN:STANDARD
DTSTART:20261025T010000
TZOFFSETFROM:+0200
TZOFFSETTO:+0100
TZNAME:CET
END:STANDARD
BEGIN:DAYLIGHT
DTSTART:20260329T010000
TZOFFSETFROM:+0100
TZOFFSETTO:+0200
TZNAME:CEST
END:DAYLIGHT
END:VTIMEZONE
BEGIN:VEVENT
UID:sabre-vobject-1d4c5f09-1969-4c9f-8e12-c22ee8470a03
DTSTAMP:20260424T114647Z
SUMMARY:jakobb | Jahreskongress Berufliche Bildung
DTSTART;TZID=Europe/Berlin:20260429T000000
DTEND;TZID=Europe/Berlin:20260430T000000
LOCATION:IHK Berlin - Ludwig Erhard Haus\, Fasanenstraße 85\, 10623 Berlin
DESCRIPTION:Der Jahreskongress Berufliche Bildung (jakobb) und der Christia
 ni Ausbildertag bringen zentrale Akteure der beruflichen Bildung zusammen 
 und rücken die Zukunft der dualen Ausbildung in den Fokus. Im Mittelpunkt
  stehen aktuelle Herausforderungen und Entwicklungen\, darunter Nachwuchsg
 ewinnung\, Digitalisierung\, Künstliche Intelligenz\, Nachhaltigkeit und 
 Diversität in der Ausbildungspraxis. \nDas Programm umfasst Fachvorträge
 \, praxisnahe Best-Practice-Beispiele sowie Diskussionsformate mit Vertret
 ern aus Forschung\, Kammern\, Schule und Politik. Zu den prägenden Stimme
 n zählt unter anderem Katharina Günther-Wünsch\, Senatorin für Bildung
 \, Jugend und Familie des Landes Berlin\, die den Kongress eröffnet. Erg
 änzt wird die Veranstaltung durch eine Fachmesse sowie Exkursionen zu Unt
 ernehmen und Bildungseinrichtungen\, darunter Siemens AG\, BMW Group\, Axe
 l Springer SE und der BVG-Ausbildungs-Campus\, bei denen innovative Ausbil
 dungskonzepte vorgestellt werden.\n\n\nAnmeldung erforderlich
END:VEVENT
END:VCALENDAR
