BEGIN:VCALENDAR
VERSION:2.0
PRODID:-//Sabre//Sabre VObject 4.5.8//EN
CALSCALE:GREGORIAN
BEGIN:VTIMEZONE
TZID:Europe/Berlin
X-MICROSOFT-CDO-TZID:4
BEGIN:STANDARD
DTSTART:20251026T010000
TZOFFSETFROM:+0200
TZOFFSETTO:+0100
TZNAME:CET
END:STANDARD
BEGIN:STANDARD
DTSTART:20261025T010000
TZOFFSETFROM:+0200
TZOFFSETTO:+0100
TZNAME:CET
END:STANDARD
BEGIN:DAYLIGHT
DTSTART:20260329T010000
TZOFFSETFROM:+0100
TZOFFSETTO:+0200
TZNAME:CEST
END:DAYLIGHT
END:VTIMEZONE
BEGIN:VEVENT
UID:sabre-vobject-b6139b9d-5cef-4788-9e00-f27c9fbe21d8
DTSTAMP:20260426T014749Z
SUMMARY:Dialog mit Steffen Krach - Welche Ideen hat er für den Mittelstand
 ?
DTSTART;TZID=Europe/Berlin:20260625T083000
DTEND;TZID=Europe/Berlin:20260625T103000
LOCATION:Berlin Capital Club\, Anton-Wilhelm-Amo-Str. 30 (ehm. Mohrenstraß
 e)\, 10117 Berlin
DESCRIPTION:Ein Frühstück mit Steffen Krach&nbsp\;im Capital Club Berlin 
 stellt den Austausch zwischen Politik und Wirtschaft in den Mittelpunkt. I
 m Fokus steht die Frage\, welche Ideen und Impulse der mögliche Regierend
 e Bürgermeister für den Mittelstand in Berlin entwickelt und wie er die 
 wirtschaftliche Zukunft der Hauptstadt gestalten will.\nDabei werden seine
  bisherigen Erfahrungen aus Wissenschafts- und Forschungsförderung ebenso
  aufgegriffen wie seine Vorstellungen zur Stärkung von Innovation\, Unter
 nehmenswachstum und Standortentwicklung. Das Format bietet die Möglichkei
 t für direkten Austausch\, Fragen und persönliche Gespräche in exklusiv
 er Runde.\n\n\nAnmeldung erforderlich
END:VEVENT
END:VCALENDAR
