BEGIN:VCALENDAR
VERSION:2.0
PRODID:-//Sabre//Sabre VObject 4.5.8//EN
CALSCALE:GREGORIAN
BEGIN:VTIMEZONE
TZID:Europe/Berlin
X-MICROSOFT-CDO-TZID:4
BEGIN:STANDARD
DTSTART:20251026T010000
TZOFFSETFROM:+0200
TZOFFSETTO:+0100
TZNAME:CET
END:STANDARD
BEGIN:STANDARD
DTSTART:20261025T010000
TZOFFSETFROM:+0200
TZOFFSETTO:+0100
TZNAME:CET
END:STANDARD
BEGIN:DAYLIGHT
DTSTART:20260329T010000
TZOFFSETFROM:+0100
TZOFFSETTO:+0200
TZNAME:CEST
END:DAYLIGHT
END:VTIMEZONE
BEGIN:VEVENT
UID:sabre-vobject-2541c5ef-620d-4fa0-b573-e54af6655f44
DTSTAMP:20260424T025749Z
SUMMARY:Hauptstadtkongress 2026
DTSTART;TZID=Europe/Berlin:20260623T000000
DTEND;TZID=Europe/Berlin:20260625T000000
LOCATION:hub27 Berlin\, Jafféstraße 2\, 14055 Berlin
DESCRIPTION:Der Kongress vereint mehrere Fachveranstaltungen unter einem Da
 ch und bringt damit unterschiedliche Perspektiven des Gesundheitswesens zu
 sammen – von Management und Pflege über medizinische Innovationen bis h
 in zu gesundheitspolitischen Fragestellungen. In zahlreichen Sessions\, Pa
 nels und Fachforen diskutieren Vertreter aus Politik\, Versorgung\, Verbä
 nden\, Wissenschaft und Wirtschaft aktuelle Entwicklungen und Reformansät
 ze.\nIm Fokus stehen zentrale Herausforderungen wie die Weiterentwicklung 
 der Versorgung\, strukturelle Reformen sowie der Umgang mit Innovationen i
 m Gesundheitssystem. Die programmatische Breite ermöglicht dabei einen pr
 ofessionsübergreifenden Austausch\, der verschiedene Interessen und Blick
 winkel miteinander verknüpft.\nEin besonderer Akzent liegt auf dem Thema 
 Prävention\, das als gesamtgesellschaftliche Aufgabe verstanden wird. Int
 eraktive Formate und inhaltliche Beiträge greifen die Frage auf\, wie pr
 äventive Ansätze stärker in den Alltag integriert werden können und we
 lche Rolle evidenzbasierte Konzepte dabei spielen.\n\n\nkostenpflichtiges 
 Ticket erforderlich
END:VEVENT
END:VCALENDAR
