BEGIN:VCALENDAR
VERSION:2.0
PRODID:-//Sabre//Sabre VObject 4.5.8//EN
CALSCALE:GREGORIAN
BEGIN:VTIMEZONE
TZID:Europe/Berlin
X-MICROSOFT-CDO-TZID:4
BEGIN:STANDARD
DTSTART:20251026T010000
TZOFFSETFROM:+0200
TZOFFSETTO:+0100
TZNAME:CET
END:STANDARD
BEGIN:STANDARD
DTSTART:20261025T010000
TZOFFSETFROM:+0200
TZOFFSETTO:+0100
TZNAME:CET
END:STANDARD
BEGIN:DAYLIGHT
DTSTART:20260329T010000
TZOFFSETFROM:+0100
TZOFFSETTO:+0200
TZNAME:CEST
END:DAYLIGHT
END:VTIMEZONE
BEGIN:VEVENT
UID:sabre-vobject-849271aa-f90a-4ef8-9b08-c429c9e743a5
DTSTAMP:20260425T023847Z
SUMMARY:Sommerfest mit Gästen aus der Wirtschaft
DTSTART;TZID=Europe/Berlin:20260624T183000
DTEND;TZID=Europe/Berlin:20260624T223000
LOCATION:Archenhold-Sternwarte\, Alt Treptow 1\, 12435 Berlin
DESCRIPTION:Der Verband deutscher Unternehmerinnen (VdU) lädt Entscheider 
 aus Wirtschaft und Industrie zu einem Sommerfest in entspannter Atmosphär
 e ein. Zwischen Industriecharme und Natur im Café Paresüd auf dem Gelän
 de der alten Brückenmeisterei entsteht Raum für Austausch\, Networking u
 nd den Aufbau neuer Kontakte. \nDas Event verbindet informelle Begegnungen
  mit fachlichem Dialog und bietet die Gelegenheit\, bestehende Beziehungen
  zu vertiefen und neue Partnerschaften anzustoßen.\n\n\nAnmeldung erforde
 rlich
END:VEVENT
END:VCALENDAR
