BEGIN:VCALENDAR
VERSION:2.0
PRODID:-//Sabre//Sabre VObject 4.5.8//EN
CALSCALE:GREGORIAN
BEGIN:VTIMEZONE
TZID:Europe/Berlin
X-MICROSOFT-CDO-TZID:4
BEGIN:STANDARD
DTSTART:20251026T010000
TZOFFSETFROM:+0200
TZOFFSETTO:+0100
TZNAME:CET
END:STANDARD
BEGIN:STANDARD
DTSTART:20261025T010000
TZOFFSETFROM:+0200
TZOFFSETTO:+0100
TZNAME:CET
END:STANDARD
BEGIN:DAYLIGHT
DTSTART:20260329T010000
TZOFFSETFROM:+0100
TZOFFSETTO:+0200
TZNAME:CEST
END:DAYLIGHT
END:VTIMEZONE
BEGIN:VEVENT
UID:sabre-vobject-99bc20aa-6f4c-4cad-8ebe-040f386c8e8c
DTSTAMP:20260426T023905Z
SUMMARY:PKM-Sommerfest
DTSTART;TZID=Europe/Berlin:20260625T000000
DTEND;TZID=Europe/Berlin:20260625T000000
LOCATION:Kronprinzenpalais\, Unter den Linden 3\, 10117 Berlin
DESCRIPTION:Das PKM-Sommerfest bringt traditionell über 1.500 Gäste aus P
 olitik\, Wirtschaft und Medien zusammen. Vor der parlamentarischen Sommerp
 ause eröffnet der Vorsitzende\, Christian Freiherr von Stetten\, das Even
 t und schafft Raum für Gespräche\, Vernetzung und den Austausch aktuelle
 r Themen.\nAls zentrale Plattform des Parlamentskreises Mittelstand der CD
 U/CSU-Bundestagsfraktion fördert das Sommerfest den Dialog zwischen Entsc
 heidungsträgern\, unterstützt Partnerschaften und gibt Einblicke in die 
 Anliegen mittelständischer Unternehmen.\n\n\nTeilnahme nur mit Einladung 
 möglich
END:VEVENT
END:VCALENDAR
