BEGIN:VCALENDAR
VERSION:2.0
PRODID:-//Sabre//Sabre VObject 4.5.8//EN
CALSCALE:GREGORIAN
BEGIN:VTIMEZONE
TZID:Europe/Berlin
X-MICROSOFT-CDO-TZID:4
BEGIN:STANDARD
DTSTART:20251026T010000
TZOFFSETFROM:+0200
TZOFFSETTO:+0100
TZNAME:CET
END:STANDARD
BEGIN:STANDARD
DTSTART:20261025T010000
TZOFFSETFROM:+0200
TZOFFSETTO:+0100
TZNAME:CET
END:STANDARD
BEGIN:DAYLIGHT
DTSTART:20260329T010000
TZOFFSETFROM:+0100
TZOFFSETTO:+0200
TZNAME:CEST
END:DAYLIGHT
END:VTIMEZONE
BEGIN:VEVENT
UID:sabre-vobject-d32f75c9-ade2-48a7-af40-089bb0319bea
DTSTAMP:20260423T024259Z
SUMMARY:MoPED Workshop
DTSTART;TZID=Europe/Berlin:20260622T090000
DTEND;TZID=Europe/Berlin:20260623T180000
LOCATION:WZB Wissenschaftszentrum Berlin für Sozialforschung\, Reichpietsc
 hufer 50\, 10785 Berlin
DESCRIPTION:Der MoPED Workshop (Berlin Meeting on the Political Economy of 
 Development) bringt Nachwuchsforscher und Wissenschaftler zusammen\, die s
 ich mit politischer Ökonomie und Entwicklungsfragen beschäftigen. Über 
 zwei Tage diskutieren die Teilnehmenden in Tiefenanalysen rund um acht For
 schungsarbeiten und -konzepte. Thematisch reicht das Spektrum von Governan
 ce\, Korruption und Konflikten über Migration bis hin zu intergruppalen B
 eziehungen. Besonders willkommen sind Arbeiten in Bearbeitung\, die innova
 tive Ansätze für aktuelle Herausforderungen der Entwicklungsökonomie au
 fzeigen.\nDer Workshop fördert gezielt den Austausch von Ideen\, Feedback
  und Kooperationen – eine ideale Plattform\, um internationale Vernetzun
 g und gemeinsame Projekte voranzubringen.\n\n\nDie Teilnahme ist nur auf E
 inladung möglich.
END:VEVENT
END:VCALENDAR
