BEGIN:VCALENDAR
VERSION:2.0
PRODID:-//Sabre//Sabre VObject 4.5.8//EN
CALSCALE:GREGORIAN
BEGIN:VTIMEZONE
TZID:Europe/Berlin
X-MICROSOFT-CDO-TZID:4
BEGIN:STANDARD
DTSTART:20251026T010000
TZOFFSETFROM:+0200
TZOFFSETTO:+0100
TZNAME:CET
END:STANDARD
BEGIN:STANDARD
DTSTART:20261025T010000
TZOFFSETFROM:+0200
TZOFFSETTO:+0100
TZNAME:CET
END:STANDARD
BEGIN:DAYLIGHT
DTSTART:20260329T010000
TZOFFSETFROM:+0100
TZOFFSETTO:+0200
TZNAME:CEST
END:DAYLIGHT
END:VTIMEZONE
BEGIN:VEVENT
UID:sabre-vobject-23ba8244-0317-4473-ae4e-7ff0b6f36ca4
DTSTAMP:20260425T023714Z
SUMMARY:Sommerempfang der Initiative D21
DTSTART;TZID=Europe/Berlin:20260624T173000
DTEND;TZID=Europe/Berlin:20260624T220000
LOCATION:Studio 14 – Die rbb Dachlounge\, Masurenallee 20\, 14057 Berlin\
 , Deutschland
DESCRIPTION:Der Sommerempfang der Initiative D21 bringt Fach- und Führungs
 kräfte der Digitalpolitik in entspannter Atmosphäre zusammen. Über den 
 Dächern Berlins entsteht Raum für persönliche Begegnungen\, inspirieren
 de Gespräche und den Austausch über aktuelle Herausforderungen und Entwi
 cklungen im digitalen Wandel. Ein politischer Ehrengast liefert Impulse\, 
 bevor der Abend auf der Dachterrasse zum Netzwerken und informellen Austau
 sch einlädt – eine Plattform\, die Wissen\, Kontakte und neue Perspekti
 ven gleichermaßen fördert.\n\n\nAnmeldung erforderlich
END:VEVENT
END:VCALENDAR
