BEGIN:VCALENDAR
VERSION:2.0
PRODID:-//Sabre//Sabre VObject 4.5.8//EN
CALSCALE:GREGORIAN
BEGIN:VTIMEZONE
TZID:Europe/Berlin
X-MICROSOFT-CDO-TZID:4
BEGIN:STANDARD
DTSTART:20251026T010000
TZOFFSETFROM:+0200
TZOFFSETTO:+0100
TZNAME:CET
END:STANDARD
BEGIN:STANDARD
DTSTART:20261025T010000
TZOFFSETFROM:+0200
TZOFFSETTO:+0100
TZNAME:CET
END:STANDARD
BEGIN:DAYLIGHT
DTSTART:20260329T010000
TZOFFSETFROM:+0100
TZOFFSETTO:+0200
TZNAME:CEST
END:DAYLIGHT
END:VTIMEZONE
BEGIN:VEVENT
UID:sabre-vobject-1a263679-7717-48c2-a762-330848ae68d7
DTSTAMP:20260423T010930Z
SUMMARY:Future Leaders Forum
DTSTART;TZID=Europe/Berlin:20260622T140000
DTEND;TZID=Europe/Berlin:20260622T220000
LOCATION:Berlin Diverse Orte
DESCRIPTION: Das Future Leaders Forum feiert gleich zwei Meilensteine: zehn
  Jahre Leading for Tomorrow und fünf Jahre Alumni-Netzwerk.&nbsp\;Im Mitt
 elpunkt steht die Förderung von Nachwuchsphysikern über die fachliche Ex
 zellenz hinaus – von Führungskompetenz über strategisches Denken bis z
 u Kommunikation und Netzwerkaufbau.\nDas Jubiläum verbindet Rückblick\, 
 Reflexion und Ausblick: Inspirierende Impulsvorträge\, Diskussionsrunden 
 und interaktive Formate bringen Fellows\, Alumni und Führungspersönlichk
 eiten aus Wissenschaft\, Wirtschaft und Politik zusammen. Ziel ist es\, Er
 fahrungen auszutauschen\, innovative Ideen für die Weiterentwicklung von 
 L4T zu entwickeln und das Potenzial junger Talente für eine zukunftsorien
 tierte Führungskultur zu entfalten.\nBegleitet von Networking\, moderiert
 en Breakouts und praxisnahen Showcases entsteht eine Plattform\, die Wisse
 n\, Austausch und Inspiration gleichermaßen fördert und die nächste Gen
 eration von Führungskräften sichtbar macht.\n\n\nDie Teilnahme ist nur a
 uf Einladung möglich.
END:VEVENT
END:VCALENDAR
