BEGIN:VCALENDAR
VERSION:2.0
PRODID:-//Sabre//Sabre VObject 4.5.8//EN
CALSCALE:GREGORIAN
BEGIN:VTIMEZONE
TZID:Europe/Berlin
X-MICROSOFT-CDO-TZID:4
BEGIN:STANDARD
DTSTART:20251026T010000
TZOFFSETFROM:+0200
TZOFFSETTO:+0100
TZNAME:CET
END:STANDARD
BEGIN:STANDARD
DTSTART:20261025T010000
TZOFFSETFROM:+0200
TZOFFSETTO:+0100
TZNAME:CET
END:STANDARD
BEGIN:DAYLIGHT
DTSTART:20260329T010000
TZOFFSETFROM:+0100
TZOFFSETTO:+0200
TZNAME:CEST
END:DAYLIGHT
END:VTIMEZONE
BEGIN:VEVENT
UID:sabre-vobject-8f8fb051-3dcb-4bbc-925c-4fdbb5aa03fa
DTSTAMP:20260423T011038Z
SUMMARY:DXD Berlin - Digital Experience Days 2026
DTSTART;TZID=Europe/Berlin:20260622T100000
DTEND;TZID=Europe/Berlin:20260623T180000
LOCATION:Hotel nhow Berlin\, Stralauer Allee 3\, 10245 Berlin
DESCRIPTION:Die Konferenz gilt als zentrale Plattform für Entscheider\, di
 e Kundenbeziehungen neu denken und digitale Strategien konsequent vorantre
 iben wollen. Im Fokus steht die Frage\, wie Unternehmen Marketing\, Vertri
 eb und Service zu einem nahtlosen Kundenerlebnis verbinden.\nDas Programm 
 vereint praxisnahe Vorträge\, interaktive Formate und vertiefende Seminar
 e\, die konkrete Einblicke in erfolgreiche Digitalisierungsprojekte liefer
 n. Renommierte Branchenexperten zeigen anhand von Best-Practice-Beispielen
 \, wie sich Themen wie künstliche Intelligenz\, Automatisierung und Perso
 nalisierung gewinnbringend einsetzen lassen.&nbsp\;\nNeben dem Wissenstran
 sfer steht vor allem der Austausch im Mittelpunkt: Die Veranstaltung bring
 t Fach- und Führungskräfte zusammen\, die digitale Transformation aktiv 
 gestalten.\n\n\nkostenpflichtige Anmeldung erforderlich
END:VEVENT
END:VCALENDAR
