BEGIN:VCALENDAR
VERSION:2.0
PRODID:-//Sabre//Sabre VObject 4.5.8//EN
CALSCALE:GREGORIAN
BEGIN:VTIMEZONE
TZID:Europe/Berlin
X-MICROSOFT-CDO-TZID:4
BEGIN:STANDARD
DTSTART:20251026T010000
TZOFFSETFROM:+0200
TZOFFSETTO:+0100
TZNAME:CET
END:STANDARD
BEGIN:STANDARD
DTSTART:20261025T010000
TZOFFSETFROM:+0200
TZOFFSETTO:+0100
TZNAME:CET
END:STANDARD
BEGIN:DAYLIGHT
DTSTART:20260329T010000
TZOFFSETFROM:+0100
TZOFFSETTO:+0200
TZNAME:CEST
END:DAYLIGHT
END:VTIMEZONE
BEGIN:VEVENT
UID:sabre-vobject-b21d4c86-b62f-419f-b390-8fde49e80116
DTSTAMP:20260424T030031Z
SUMMARY:Future Workforce Summit
DTSTART;TZID=Europe/Berlin:20260623T090000
DTEND;TZID=Europe/Berlin:20260624T170000
LOCATION:SAP Data Space\, Rosenthaler Str. 38\, 10178 Berlin
DESCRIPTION:Der&nbsp\;Summit ist ein zweitägiges Arbeitsformat für Führu
 ngskräfte aus HR\, People & Culture und Organisationsentwicklung\, die si
 ch mit aktuellen Herausforderungen rund um Transformation\, Führung und O
 rganisationsentwicklung auseinandersetzen.\nIm Mittelpunkt steht die gemei
 nsame Arbeit an realen Fragestellungen. In einem strukturierten Rahmen aus
  Simulationen\, Fallarbeit und moderierten Diskussionen bearbeiten die Tei
 lnehmenden konkrete Spannungsfelder wie den Umgang mit KI\, steigende Leis
 tungsanforderungen oder organisatorischen Wandlungen.\nDas Format ist inte
 raktiv angelegt: Statt Vorträgen geht es um Austausch\, Reflexion und das
  Testen eigener Ansätze im Dialog mit anderen Führungskräften. Begleite
 t wird der Prozess von Coaches sowie Experten aus Praxis und Forschung.\nD
 urch die begrenzte Teilnehmendenzahl entsteht Raum für vertiefte Diskussi
 onen und kollaboratives Arbeiten. Ziel der Veranstaltung ist es\, untersch
 iedliche Perspektiven sichtbar zu machen und individuelle Handlungsoptione
 n für den eigenen organisationalen Kontext zu entwickeln.\n\n\nkostenpfli
 chtige Anmeldung erforderlich
END:VEVENT
END:VCALENDAR
