BEGIN:VCALENDAR
VERSION:2.0
PRODID:-//Sabre//Sabre VObject 4.5.8//EN
CALSCALE:GREGORIAN
BEGIN:VTIMEZONE
TZID:Europe/Berlin
X-MICROSOFT-CDO-TZID:4
BEGIN:STANDARD
DTSTART:20251026T010000
TZOFFSETFROM:+0200
TZOFFSETTO:+0100
TZNAME:CET
END:STANDARD
BEGIN:STANDARD
DTSTART:20261025T010000
TZOFFSETFROM:+0200
TZOFFSETTO:+0100
TZNAME:CET
END:STANDARD
BEGIN:DAYLIGHT
DTSTART:20260329T010000
TZOFFSETFROM:+0100
TZOFFSETTO:+0200
TZNAME:CEST
END:DAYLIGHT
END:VTIMEZONE
BEGIN:VEVENT
UID:sabre-vobject-4fde7e19-d249-488b-9444-985029a3cdc8
DTSTAMP:20260425T023648Z
SUMMARY:Handelsblatt Konferenz | Wirtschaftsfaktor Wasser 2026
DTSTART;TZID=Europe/Berlin:20260624T090000
DTEND;TZID=Europe/Berlin:20260625T160000
LOCATION:Umweltforum Berlin\, Pufendorfstraße 11\, 10249 Berlin\, Deutschl
 and
DESCRIPTION:Wasser ist nicht nur Lebensgrundlage\, sondern auch ein zentral
 er Produktions- und Standortfaktor für die deutsche Wirtschaft. Steigende
  Nachfrage\, geopolitische Verschiebungen und begrenzte Ressourcen machen 
 den effizienten Umgang mit Wasser zu einer strategischen Herausforderung f
 ür Industrie\, Energieversorgung und Infrastruktur.\nDie Konferenz bringt
  Experten aus Industrie\, Politik und Finanzwelt zusammen\, um praxisnahe 
 Lösungen und Strategien für eine sichere\, nachhaltige und wirtschaftlic
 h tragfähige Wasserversorgung zu diskutieren. Im Fokus stehen die Anpassu
 ng von Produktionsprozessen in wasserintensiven Branchen\, der Einsatz inn
 ovativer Kreislauf- und Kühltechnologien\, regulatorische Rahmenbedingung
 en sowie Investitionen in Wasserinfrastruktur\, die langfristig Standortat
 traktivität und Wettbewerbsfähigkeit sichern.\nDie Veranstaltung zeigt\,
  wie Unternehmen\, Politik und Investoren gemeinsam den Versorgungsdruck m
 eistern und Chancen für Innovation und nachhaltiges Wirtschaften nutzen k
 önnen.\n\n\nkostenpflichtige Anmeldung erforderlich
END:VEVENT
END:VCALENDAR
