BEGIN:VCALENDAR
VERSION:2.0
PRODID:-//Sabre//Sabre VObject 4.5.8//EN
CALSCALE:GREGORIAN
BEGIN:VTIMEZONE
TZID:Europe/Berlin
X-MICROSOFT-CDO-TZID:4
BEGIN:STANDARD
DTSTART:20251026T010000
TZOFFSETFROM:+0200
TZOFFSETTO:+0100
TZNAME:CET
END:STANDARD
BEGIN:STANDARD
DTSTART:20261025T010000
TZOFFSETFROM:+0200
TZOFFSETTO:+0100
TZNAME:CET
END:STANDARD
BEGIN:DAYLIGHT
DTSTART:20260329T010000
TZOFFSETFROM:+0100
TZOFFSETTO:+0200
TZNAME:CEST
END:DAYLIGHT
END:VTIMEZONE
BEGIN:VEVENT
UID:sabre-vobject-5300ff53-0dc2-4d4c-8ab5-05685deb1db6
DTSTAMP:20260425T024038Z
SUMMARY:Potsdamer Konferenz für Nationale Cybersicherheit
DTSTART;TZID=Europe/Berlin:20260624T000000
DTEND;TZID=Europe/Berlin:20260625T000000
LOCATION:Hasso-Plattner-Institut\, Prof.-Dr.-Helmert-Straße 2-3\, 14482 Po
 tsdam
DESCRIPTION:Die Konferenz widmet sich den wachsenden Herausforderungen eine
 r sich verändernden globalen Sicherheitsordnung. Geopolitische Spannungen
 \, technologische Abhängigkeiten und neue Bedrohungslagen rücken Cybersi
 cherheit zunehmend in den Mittelpunkt von Politik\, Wirtschaft und Gesells
 chaft.\nIm Fokus steht die Frage\, wie strategische Ziele wirksam umgesetz
 t werden können – von der Absicherung kritischer Infrastrukturen über 
 den Umgang mit Desinformation bis hin zu Risiken durch künstliche Intelli
 genz. Diskutiert wird\, wie der Übergang von reaktiver Abwehr hin zu eine
 r aktiven Gestaltung von Sicherheit\, Resilienz und digitaler Souveränit
 ät gelingen kann.\nDie Konferenz bietet Raum für praxisnahe Debatten\, k
 onkrete Lösungsansätze und den Austausch mit Entscheidern und Experten a
 us unterschiedlichen Bereichen.\n\n\nkostenpflichtige Anmeldung erforderli
 ch
END:VEVENT
END:VCALENDAR
