BEGIN:VCALENDAR
VERSION:2.0
PRODID:-//Sabre//Sabre VObject 4.5.8//EN
CALSCALE:GREGORIAN
BEGIN:VTIMEZONE
TZID:Europe/Berlin
X-MICROSOFT-CDO-TZID:4
BEGIN:STANDARD
DTSTART:20251026T010000
TZOFFSETFROM:+0200
TZOFFSETTO:+0100
TZNAME:CET
END:STANDARD
BEGIN:STANDARD
DTSTART:20261025T010000
TZOFFSETFROM:+0200
TZOFFSETTO:+0100
TZNAME:CET
END:STANDARD
BEGIN:DAYLIGHT
DTSTART:20260329T010000
TZOFFSETFROM:+0100
TZOFFSETTO:+0200
TZNAME:CEST
END:DAYLIGHT
END:VTIMEZONE
BEGIN:VEVENT
UID:sabre-vobject-c6f28327-ce32-48f4-b482-c419ec8b11d0
DTSTAMP:20260421T014839Z
SUMMARY:Tag der offenen Tür 2026 des BMUKN
DTSTART;TZID=Europe/Berlin:20260620T000000
DTEND;TZID=Europe/Berlin:20260621T000000
LOCATION:Bundesministerium für Umwelt\, Naturschutz\, nukleare Sicherheit 
 und Verbraucherschutz (BMUV)\, Stresemannstraße 128-130\, 10117 Berlin
DESCRIPTION:Der Tag der offenen Tür des Bundesministeriums für Umwelt\, K
 limaschutz\, Naturschutz und nukleare Sicherheit bietet Besuchern die Mög
 lichkeit\, einen Blick hinter die Kulissen der politischen Arbeit zu werfe
 n. Hausführungen\, Informationsstände und interaktive Angebote machen ze
 ntrale Themen rund um Umwelt- und Klimaschutz greifbar.\nEin vielfältiges
  Programm richtet sich ebenso an Fachpublikum wie an interessierte Besuche
 r und Familien. Im Fokus stehen aktuelle Herausforderungen und Lösungsans
 ätze\, die zeigen\, wie eng Umweltpolitik mit Alltag\, Wirtschaft und Ges
 ellschaft verknüpft ist.\nEin besonderes Highlight ist das Jubiläum des 
 Ministeriums\, das in diesem Jahr sein 40-jähriges Bestehen feiert.\n\n\n
 Anmeldung erforderlich
END:VEVENT
END:VCALENDAR
