BEGIN:VCALENDAR
VERSION:2.0
PRODID:-//Sabre//Sabre VObject 4.5.8//EN
CALSCALE:GREGORIAN
BEGIN:VTIMEZONE
TZID:Europe/Berlin
X-MICROSOFT-CDO-TZID:4
BEGIN:STANDARD
DTSTART:20251026T010000
TZOFFSETFROM:+0200
TZOFFSETTO:+0100
TZNAME:CET
END:STANDARD
BEGIN:STANDARD
DTSTART:20261025T010000
TZOFFSETFROM:+0200
TZOFFSETTO:+0100
TZNAME:CET
END:STANDARD
BEGIN:DAYLIGHT
DTSTART:20260329T010000
TZOFFSETFROM:+0100
TZOFFSETTO:+0200
TZNAME:CEST
END:DAYLIGHT
END:VTIMEZONE
BEGIN:VEVENT
UID:sabre-vobject-7917022a-912c-469f-88d2-c085dbb8f3b0
DTSTAMP:20260423T011845Z
SUMMARY:#TDI26 – Tag der Industrie
DTSTART;TZID=Europe/Berlin:20260622T000000
DTEND;TZID=Europe/Berlin:20260623T000000
LOCATION:EUREF-Campus | Gasometer\, EUREF-Campus 1-25\, 10829 Berlin
DESCRIPTION:Stärke und Sicherheit für die Industrie\nDer Tag der Industri
 e zählt zu den wichtigsten Treffpunkten des wirtschaftspolitischen Netzwe
 rks in Deutschland. Rund 1.500 geladene Gäste aus Unternehmen\, Politik\,
  Forschung und Verbänden kommen zusammen\, um über die Zukunft des Indus
 triestandorts und die Rolle Europas in einer zunehmend geopolitisch geprä
 gten Welt zu diskutieren.\nIm Mittelpunkt stehen Fragen nach wirtschaftlic
 her Resilienz\, technologischer Souveränität und neuer Wettbewerbsfähig
 keit. Angesichts wachsender globaler Spannungen und zunehmenden Innovation
 sdrucks geht es darum\, wie Deutschland und Europa ihre industrielle Stär
 ke sichern und gleichzeitig neue Wachstumsimpulse setzen können. Diskutie
 rt wird unter anderem\, wie Verteidigungsinvestitionen zu einem Innovation
 smotor für den gesamten Standort werden und welche Reformen notwendig sin
 d\, um Unternehmen wieder stärker auf Wachstumskurs zu bringen.\nDer TDI 
 versteht sich dabei als Plattform für strategischen Austausch und neue Im
 pulse. Unter dem Motto „Stärke. Sicherheit. Zukunft – Made by Europe
 “ kommen führende Stimmen aus Wirtschaft\, Politik und Wissenschaft zus
 ammen\, um Perspektiven für einen wettbewerbsfähigen\, resilienten und z
 ukunftsfähigen Industriestandort zu entwickeln.\n\n\nDie Teilnahme ist nu
 r auf Einladung möglich
END:VEVENT
END:VCALENDAR
